BEGIN:VCALENDAR
VERSION:2.0
PRODID:http://www.bistum-trier.de
BEGIN:VEVENT
UID:65579588-3800-11f1-a3e9-0242ac11002b-1780039800000-de
DTSTAMP:20260414T124937Z
DTSTART:20260529T073000Z
DTEND:20260529T100000Z
SUMMARY;LANGUAGE=de:Nachbarschaftsfrühstück
DESCRIPTION;LANGUAGE=de:Nachbarschaftsfrühstück im Café Haus Europa mit Rahmenprogramm\,
LOCATION;LANGUAGE=de:Haus Europa\, Rodener Str. 56\, Saarlouis
IMAGE;VALUE=URI;DISPLAY=BADGE;FMTTYPE=image/jpeg:http://www.bistum-trier.de/export/sites/portal/ehrenamt/.galleries/bilder/Fruehstueck_Symbolbild.jpg_1901032207.jpg
URL:http://www.bistum-trier.de/ehrenamt/veranstaltung/Nachbarschaftsfruehstueck-2026.05.29/
END:VEVENT
END:VCALENDAR
