BEGIN:VCALENDAR
VERSION:2.0
PRODID:http://www.bistum-trier.de
BEGIN:VEVENT
UID:d435733b-37ef-11f1-a3e9-0242ac11002b-1778945400000-de
DTSTAMP:20260414T105102Z
DTSTART:20260516T153000Z
DTEND:20260529T180000Z
SUMMARY;LANGUAGE=de:Ausstellung "Das Licht verbindet uns - Die Würde des Menschen ist unantastbar"
DESCRIPTION;LANGUAGE=de:Im Aktionszeitraum wird im „Haus Europa“\, dem Standort des Quartiersmanagements Fraulautern eine Kunstausstellung mit vornehmlich Gemälden von Menschen mit Fluchterfahrungen ausgestellt.
LOCATION;LANGUAGE=de:Haus Europa\, Rodener Str. 56\, Saarlouis
IMAGE;VALUE=URI;DISPLAY=BADGE;FMTTYPE=image/jpeg:http://www.bistum-trier.de/export/sites/portal/weltkirche/bolivienpartnerschaft/.galleries/bilder/canvas-5671673_1280.jpg
END:VEVENT
END:VCALENDAR
